Workbook

Sheet заказ
A1: Наименование | B1: Артикул | C1: Цена опт | D1: Кол-во | E1: Сумма
A2: =каталог!B5 -> Люлька для игрушки "Ладушка " | B2: =каталог!D5 -> ПХД51/1 | C2: =каталог!E5 -> 3819 | D2: =каталог!F5 -> 0 | E2: =C2*D2 -> 0
A3: =каталог!B6 -> Люлька для игрушки | B3: =каталог!D6 -> ПХД51 | C3: =каталог!E6 -> 1672 | D3: =каталог!F6 -> 0 | E3: =C3*D3 -> 0
A4: =каталог!B7 -> Кроватка для игрушки | B4: =каталог!D7 -> ПХД52 | C4: =каталог!E7 -> 2262 | D4: =каталог!F7 -> 0 | E4: =C4*D4 -> 0
A5: =каталог!B8 -> Колыбель для новорожденного (с куполом на плетёном дне) | B5: =каталог!D8 -> ПХД66 | C5: =каталог!E8 -> 10002 | D5: =каталог!F8 -> 0 | E5: =C5*D5 -> 0
C6: итого: | D6: =SUM(D2:D5) -> 0 | E6: =SUM(E2:E5) -> 0

Sheet каталог
B1: Товары для детей
B2: ( 83361) 4-75-33, e-mail:ivolga4@yandex.ru
B3: ООО "Азимут" Кировская обл., г.Кирово-Чепецк, ул.Калинина, д.7
A4: Фото | B4: Наименование | C4: Описание | D4: Артикул | E4: Цена опт | F4: Кол-во | G4: Сумма
B5: Люлька для игрушки "Ладушка " | C5: Сплетена из ивового прута. Габаритные размеры в сборе 520*300/450. Размеры плетёной корзины 520*300/270. Размеры подставки 420*280/300. Подставка-качалка выполнена из берёзовой фанеры толщиной 5 мм. В комплектацию входят матрас, подушка и одеяльце. Бельё и корзина декорированы кружевом. | D5: ПХД51/1 | E5: 3819 | G5: =E5*F5 -> 0
B6: Люлька для игрушки | C6: Коляска для куклы классической формы сплетена из ивового прута и ивовой ленты. Размеры 330*200/90/250. Дно и резные колёса выполнены из берёзовой фанеры. В комплектацию входят матрас и подушка. Бельё декорировано кружевом. | D6: ПХД51 | E6: 1672 | G6: =E6*F6 -> 0
B7: Кроватка для игрушки | C7: Оригинальная конструкция каркаса из берёзовой фанеры проплетена ивовым прутом и ивовой лентой. Габаритные размеры 330*180/200. В комплект входят матрас, подушка и одеяло, декорированные кружевом. | D7: ПХД52 | E7: 2262 | G7: =E7*F7 -> 0
B8: Колыбель для новорожденного (с куполом на плетёном дне) | C8: Колыбель на плетёном дне (без подставки, без белья) 900*500/270/500 | D8: ПХД66 | E8: 10002 | G8: =E8*F8 -> 0
E9: итого: | F9: =SUM(F5:F8) -> 0 | G9: =SUM(G5:G8) -> 0
