Workbook

Sheet заказ
A1: № | B1: Наименование | C1: Артикул | D1: цена опт | E1: кол-во | F1: сумма
A2: 1 | B2: =каталог!B6 -> Набор мебели для куклы 6-предметный "Аппликация берестой" №1 "Полянка" | C2: =каталог!C6 -> Д10/1 | D2: =каталог!D6 -> 851 | E2: =каталог!E6 -> 0 | F2: =D2*E2 -> 0
A3: 2 | B3: =каталог!B7 -> Набор мебели для куклы 6-предметный "Аппликация берестой" №2 "Цветок папоротника" | C3: =каталог!C7 -> Д10/2 | D3: =каталог!D7 -> 851 | E3: =каталог!E7 -> 0 | F3: =D3*E3 -> 0
A4: 3 | B4: =каталог!B8 -> Набор мебели для куклы 6-предметный, декорированный ручной росписью "Цветные ромашки" | C4: =каталог!C8 -> Д11/1 | D4: =каталог!D8 -> 883 | E4: =каталог!E8 -> 0 | F4: =D4*E4 -> 0
A5: 4 | B5: =каталог!B9 -> Набор мебели для куклы 6-предметный, декорированный ручной росписью "Дубок" | C5: =каталог!C9 -> Д11/2 | D5: =каталог!D9 -> 883 | E5: =каталог!E9 -> 0 | F5: =D5*E5 -> 0
A6: 5 | B6: =каталог!B10 -> Набор мебели для куклы 6-предметный, декорированный ручной росписью "Голубые ромашки" | C6: =каталог!C10 -> Д11/3 | D6: =каталог!D10 -> 883 | E6: =каталог!E10 -> 0 | F6: =D6*E6 -> 0
A7: 6 | B7: =каталог!B11 -> Набор мебели для куклы 6-предметный, декорированный ручной росписью "Роза" | C7: =каталог!C11 -> Д11/4 | D7: =каталог!D11 -> 883 | E7: =каталог!E11 -> 0 | F7: =D7*E7 -> 0
A8: 7 | B8: =каталог!B12 -> Набор мебели для куклы 6-предметный, декорированный ручной росписью "Семицветик" | C8: =каталог!C12 -> Д11/5 | D8: =каталог!D12 -> 883 | E8: =каталог!E12 -> 0 | F8: =D8*E8 -> 0
A9: 8 | B9: =каталог!B13 -> Набор мебели для куклы 6-предметный, декорированный ручной росписью "Петушок" | C9: =каталог!C13 -> Д11/6 | D9: =каталог!D13 -> 883 | E9: =каталог!E13 -> 0 | F9: =D9*E9 -> 0
A10: 9 | B10: =каталог!B14 -> Набор мебели для куклы 6-предметный, декорированный ручной росписью "Василёк" | C10: =каталог!C14 -> Д11/7 | D10: =каталог!D14 -> 883 | E10: =каталог!E14 -> 0 | F10: =D10*E10 -> 0
A11: 10 | B11: =каталог!B15 -> Набор мебели для куклы 6-предметный, декорированный ручной росписью "Дымка" | C11: =каталог!C15 -> Д11/8 | D11: =каталог!D15 -> 883 | E11: =каталог!E15 -> 0 | F11: =D11*E11 -> 0
A12: 11 | B12: =каталог!B16 -> Набор мебели для куклы 6-предметный, декорированный ручной росписью "Узор" | C12: =каталог!C16 -> Д11/9 | D12: =каталог!D16 -> 883 | E12: =каталог!E16 -> 0 | F12: =D12*E12 -> 0
A13: 12 | B13: =каталог!B17 -> Набор мебели для куклы 6-предметный, декорированный ручной росписью "Вятская роспись" | C13: =каталог!C17 -> Д11/10 | D13: =каталог!D17 -> 883 | E13: =каталог!E17 -> 0 | F13: =D13*E13 -> 0
D14: итого | E14: =SUM(E2:E13) -> 0 | F14: =SUM(F2:F13) -> 0

Sheet каталог
B1: Набор мебели для куклы
B2: ( 83361) 4-75-33, e-mail:ivolga4@yandex.ru
B3: ООО "Азимут" Кировская обл., г.Кирово-Чепецк, ул.Калинина, д.7
A4: Набор мебели 6-предметный: обеденный стол, два стула, журнальный столик, кресло-качалка и кроватка-люлька.Набор декорирован ручной росписью акриловыми красками или аппликацией берестой. Рост куклы 10 см.
A5: Фото | B5: Наименование | C5: Артикул | D5: цена опт | E5: кол-во | F5: сумма
B6: Набор мебели для куклы 6-предметный "Аппликация берестой" №1 "Полянка" | C6: Д10/1 | D6: 851 | F6: =D6*E6 -> 0
B7: Набор мебели для куклы 6-предметный "Аппликация берестой" №2 "Цветок папоротника" | C7: Д10/2 | D7: 851 | F7: =D7*E7 -> 0
B8: Набор мебели для куклы 6-предметный, декорированный ручной росписью "Цветные ромашки" | C8: Д11/1 | D8: 883 | F8: =D8*E8 -> 0
B9: Набор мебели для куклы 6-предметный, декорированный ручной росписью "Дубок" | C9: Д11/2 | D9: 883 | F9: =D9*E9 -> 0
B10: Набор мебели для куклы 6-предметный, декорированный ручной росписью "Голубые ромашки" | C10: Д11/3 | D10: 883 | F10: =D10*E10 -> 0
B11: Набор мебели для куклы 6-предметный, декорированный ручной росписью "Роза" | C11: Д11/4 | D11: 883 | F11: =D11*E11 -> 0
B12: Набор мебели для куклы 6-предметный, декорированный ручной росписью "Семицветик" | C12: Д11/5 | D12: 883 | F12: =D12*E12 -> 0
B13: Набор мебели для куклы 6-предметный, декорированный ручной росписью "Петушок" | C13: Д11/6 | D13: 883 | F13: =D13*E13 -> 0
B14: Набор мебели для куклы 6-предметный, декорированный ручной росписью "Василёк" | C14: Д11/7 | D14: 883 | F14: =D14*E14 -> 0
B15: Набор мебели для куклы 6-предметный, декорированный ручной росписью "Дымка" | C15: Д11/8 | D15: 883 | F15: =D15*E15 -> 0
B16: Набор мебели для куклы 6-предметный, декорированный ручной росписью "Узор" | C16: Д11/9 | D16: 883 | F16: =D16*E16 -> 0
B17: Набор мебели для куклы 6-предметный, декорированный ручной росписью "Вятская роспись" | C17: Д11/10 | D17: 883 | F17: =D17*E17 -> 0
D18: итого | E18: =SUM(E6:E17) -> 0 | F18: =SUM(F6:F17) -> 0
