Workbook

Sheet заказ
A1: № п/п | B1: наименование | C1: цвет матраса | D1: артикул | E1: цена опт | F1: кол-во | G1: сумма
A2: 1 | B2: =каталог!B11 -> Гнездо №1 | C2: =каталог!C11 -> нет | D2: =каталог!D11 -> ПХД22/1 | E2: =каталог!F11 -> 653 | F2: =каталог!G11 -> 0 | G2: =E2*F2 -> 0
B3: =каталог!B12 -> Гнездо №2 | C3: =каталог!C12 -> нет | D3: =каталог!D12 -> ПХД22/2 | E3: =каталог!F12 -> 756 | F3: =каталог!G12 -> 0 | G3: =E3*F3 -> 0
A4: 2 | B4: =каталог!B13 -> Гнездо №3 | C4: =каталог!C13 -> нет | D4: =каталог!D13 -> ИНП95 | E4: =каталог!F13 -> 1335 | F4: =каталог!G13 -> 0 | G4: =E4*F4 -> 0
A5: 3 | B5: =каталог!B14 -> Домик для хомячка №1 | C5: =каталог!C14 -> нет | D5: =каталог!D14 -> ПХД21/1 | E5: =каталог!F14 -> 453 | F5: =каталог!G14 -> 0 | G5: =E5*F5 -> 0
B6: =каталог!B15 -> Домик для хомячка №2 | C6: =каталог!C15 -> нет | D6: =каталог!D15 -> ПХД21/2 | E6: =каталог!F15 -> 654 | F6: =каталог!G15 -> 0 | G6: =E6*F6 -> 0
A7: 4 | B7: =каталог!B16 -> Домик для грызуна №1/1 | C7: =каталог!C16 -> нет | D7: =каталог!D16 -> ИНП103/1 | E7: =каталог!F16 -> 634 | F7: =каталог!G16 -> 0 | G7: =E7*F7 -> 0
B8: =каталог!B17 -> Домик для грызуна №1/2 | C8: =каталог!C17 -> нет | D8: =каталог!D17 -> ИНП103/2 | E8: =каталог!F17 -> 634 | F8: =каталог!G17 -> 0 | G8: =E8*F8 -> 0
B9: =каталог!B18 -> Домик для грызуна №1/3 | C9: =каталог!C18 -> нет | D9: =каталог!D18 -> ИНП103/3 | E9: =каталог!F18 -> 634 | F9: =каталог!G18 -> 0 | G9: =E9*F9 -> 0
A10: 5 | B10: =каталог!B19 -> Домик "Шалаш" | C10: =каталог!C19 -> воздушные шары | D10: =каталог!D19 -> ПХД14в | E10: =каталог!F19 -> 3989 | F10: =каталог!G19 -> 0 | G10: =E10*F10 -> 0
B11: =каталог!B20 -> Домик "Шалаш" | C11: =каталог!C20 -> терракота | D11: =каталог!D20 -> ПХД14т | E11: =каталог!F20 -> 3989 | F11: =каталог!G20 -> 0 | G11: =E11*F11 -> 0
B12: =каталог!B21 -> Домик "Шалаш" | C12: =каталог!C21 -> горчица | D12: =каталог!D21 -> ПХД14г | E12: =каталог!F21 -> 3989 | F12: =каталог!G21 -> 0 | G12: =E12*F12 -> 0
A13: 6 | B13: =каталог!B22 -> Лежак для собаки овальный | C13: =каталог!C22 -> терракота | D13: =каталог!D22 -> ИНП94/т | E13: =каталог!F22 -> 5581 | F13: =каталог!G22 -> 0 | G13: =E13*F13 -> 0
B14: =каталог!B23 -> Лежак для собаки овальный | C14: =каталог!C23 -> горчица | D14: =каталог!D23 -> ИНП94/г | E14: =каталог!F23 -> 5581 | F14: =каталог!G23 -> 0 | G14: =E14*F14 -> 0
A15: 7 | B15: =каталог!B24 -> Софа прямоугольная №1 | C15: =каталог!C24 -> терракота | D15: =каталог!D24 -> НХП115/1т | E15: =каталог!F24 -> 2942 | F15: =каталог!G24 -> 0 | G15: =E15*F15 -> 0
B16: =каталог!B25 -> Софа прямоугольная №1 | C16: =каталог!C25 -> воздушные шары | D16: =каталог!D25 -> НХП115/1в | E16: =каталог!F25 -> 2942 | F16: =каталог!G25 -> 0 | G16: =E16*F16 -> 0
B17: =каталог!B26 -> Софа прямоугольная №1 | C17: =каталог!C26 -> саванна | D17: =каталог!D26 -> НХП115/1с | E17: =каталог!F26 -> 2942 | F17: =каталог!G26 -> 0 | G17: =E17*F17 -> 0
B18: =каталог!B27 -> Софа прямоугольная №1 | C18: =каталог!C27 -> молочный шоколад | D18: =каталог!D27 -> НХП115/1м | E18: =каталог!F27 -> 2942 | F18: =каталог!G27 -> 0 | G18: =E18*F18 -> 0
B19: =каталог!B28 -> Софа прямоугольная №1 | C19: =каталог!C28 -> горчица | D19: =каталог!D28 -> НХП115/1г | E19: =каталог!F28 -> 2942 | F19: =каталог!G28 -> 0 | G19: =E19*F19 -> 0
B20: =каталог!B29 -> Софа прямоугольная №1 | C20: =каталог!C29 -> европа | D20: =каталог!D29 -> НХП115/1е | E20: =каталог!F29 -> 2942 | F20: =каталог!G29 -> 0 | G20: =E20*F20 -> 0
B21: =каталог!B30 -> Софа прямоугольная №2 | C21: =каталог!C30 -> терракота | D21: =каталог!D30 -> НХП115/2т | E21: =каталог!F30 -> 3873 | F21: =каталог!G30 -> 0 | G21: =E21*F21 -> 0
B22: =каталог!B31 -> Софа прямоугольная №2 | C22: =каталог!C31 -> воздушные шары | D22: =каталог!D31 -> НХП115/2в | E22: =каталог!F31 -> 3873 | F22: =каталог!G31 -> 0 | G22: =E22*F22 -> 0
B23: =каталог!B32 -> Софа прямоугольная №2 | C23: =каталог!C32 -> саванна | D23: =каталог!D32 -> НХП115/2с | E23: =каталог!F32 -> 3873 | F23: =каталог!G32 -> 0 | G23: =E23*F23 -> 0
B24: =каталог!B33 -> Софа прямоугольная №2 | C24: =каталог!C33 -> молочный шоколад | D24: =каталог!D33 -> НХП115/2м | E24: =каталог!F33 -> 3873 | F24: =каталог!G33 -> 0 | G24: =E24*F24 -> 0
B25: =каталог!B34 -> Софа прямоугольная №2 | C25: =каталог!C34 -> горчица | D25: =каталог!D34 -> НХП115/2г | E25: =каталог!F34 -> 3873 | F25: =каталог!G34 -> 0 | G25: =E25*F25 -> 0
B26: =каталог!B35 -> Софа прямоугольная №2 | C26: =каталог!C35 -> европа | D26: =каталог!D35 -> НХП115/2е | E26: =каталог!F35 -> 3873 | F26: =каталог!G35 -> 0 | G26: =E26*F26 -> 0
A27: 8 | B27: =каталог!B36 -> "Софа" круглая | C27: =каталог!C36 -> терракота | D27: =каталог!D36 -> ПХД16/т | E27: =каталог!F36 -> 3649 | F27: =каталог!G36 -> 0 | G27: =E27*F27 -> 0
B28: =каталог!B37 -> "Софа" круглая | C28: =каталог!C37 -> воздушные шары | D28: =каталог!D37 -> ПХД16/в | E28: =каталог!F37 -> 3649 | F28: =каталог!G37 -> 0 | G28: =E28*F28 -> 0
B29: =каталог!B38 -> "Софа" круглая | C29: =каталог!C38 -> горчица | D29: =каталог!D38 -> ПХД16/г | E29: =каталог!F38 -> 3649 | F29: =каталог!G38 -> 0 | G29: =E29*F29 -> 0
B30: =каталог!B39 -> "Софа" круглая | C30: =каталог!C39 -> европа | D30: =каталог!D39 -> ПХД16/е | E30: =каталог!F39 -> 3649 | F30: =каталог!G39 -> 0 | G30: =E30*F30 -> 0
A31: 9 | B31: =каталог!B40 -> Лежак "Фигурный" №1 | C31: =каталог!C40 -> терракота | D31: =каталог!D40 -> ИНП93/1т | E31: =каталог!F40 -> 2865 | F31: =каталог!G40 -> 0 | G31: =E31*F31 -> 0
B32: =каталог!B41 -> Лежак "Фигурный" №1 | C32: =каталог!C41 -> воздушные шары | D32: =каталог!D41 -> ИНП93/1в | E32: =каталог!F41 -> 2865 | F32: =каталог!G41 -> 0 | G32: =E32*F32 -> 0
B33: =каталог!B42 -> Лежак "Фигурный" №1 | C33: =каталог!C42 -> саванна | D33: =каталог!D42 -> ИНП93/1с | E33: =каталог!F42 -> 2865 | F33: =каталог!G42 -> 0 | G33: =E33*F33 -> 0
B34: =каталог!B43 -> Лежак "Фигурный" №1 | C34: =каталог!C43 -> молочный шоколад | D34: =каталог!D43 -> ИНП93/1м | E34: =каталог!F43 -> 2865 | F34: =каталог!G43 -> 0 | G34: =E34*F34 -> 0
B35: =каталог!B44 -> Лежак "Фигурный" №1 | C35: =каталог!C44 -> горчица | D35: =каталог!D44 -> ИНП93/1г | E35: =каталог!F44 -> 2865 | F35: =каталог!G44 -> 0 | G35: =E35*F35 -> 0
B36: =каталог!B45 -> Лежак "Фигурный" №1 | C36: =каталог!C45 -> европа | D36: =каталог!D45 -> ИНП93/1е | E36: =каталог!F45 -> 2865 | F36: =каталог!G45 -> 0 | G36: =E36*F36 -> 0
B37: =каталог!B46 -> Лежак "Фигурный" №2 | C37: =каталог!C46 -> терракота | D37: =каталог!D46 -> ИНП93/2т | E37: =каталог!F46 -> 3767 | F37: =каталог!G46 -> 0 | G37: =E37*F37 -> 0
B38: =каталог!B47 -> Лежак "Фигурный" №2 | C38: =каталог!C47 -> воздушные шары | D38: =каталог!D47 -> ИНП93/2в | E38: =каталог!F47 -> 3767 | F38: =каталог!G47 -> 0 | G38: =E38*F38 -> 0
B39: =каталог!B48 -> Лежак "Фигурный" №2 | C39: =каталог!C48 -> саванна | D39: =каталог!D48 -> ИНП93/2с | E39: =каталог!F48 -> 3767 | F39: =каталог!G48 -> 0 | G39: =E39*F39 -> 0
B40: =каталог!B49 -> Лежак "Фигурный" №2 | C40: =каталог!C49 -> молочный шоколад | D40: =каталог!D49 -> ИНП93/2м | E40: =каталог!F49 -> 3767 | F40: =каталог!G49 -> 0 | G40: =E40*F40 -> 0
...

Sheet ткани
A1: саванна | B1: воздушные шары | C1: терракота
A4: горчица | B4: европа | C4: молочный шоколад

Sheet каталог
B1: ВЯТСКАЯ КОРЗИНА (ВЯТСКИЙ КОРЗИНОЧНЫЙ ПРОМЫСЕЛ)
A2: Корзины для животных
A3: Правообладатель ООО "Азимут" Кировская обл., г.Кирово-Чепецк, ул.Калинина, д.7, ( 83361) 4-75-33, e-mail:ivolga4@yandex.ru Продукции предприятия ООО «Азимут» присвоен официальный статус изделий народных художественных промыслов России.
A4: Плетёные из лозы лежанки, корзины, спальные места и игровые домики для домашних любимцев служат настоящим украшением любого дома. Все изделия ручной работы. Стильные и удобные, качественные и безопасные. Указаны габаритные размеры корзин (длина х ширина / высота).
A5: ПХД - изделия признанного художественного достоинства
A6: НХП - изделия народных художественных промыслов Кировской области
A7: ИНП - изделия народных промыслов
A8: Цвет матраса: | B8: саванна | D8: молочный шоколад | F8: европа
B9: терракота | D9: воздушные шары | F9: горчица
A10: фото | B10: наименование | C10: цвет матраса | D10: артикул | E10: размеры (длина*ширина /глубина/высота ручки) | F10: цена опт | G10: кол-во | H10: сумма
B11: Гнездо №1 | C11: нет | D11: ПХД22/1 | E11: 160х160/180 | F11: 653 | H11: =F11*G11 -> 0
B12: Гнездо №2 | C12: нет | D12: ПХД22/2 | E12: 180х180/230 | F12: 756 | H12: =F12*G12 -> 0
B13: Гнездо №3 | C13: нет | D13: ИНП95 | E13: 260*290/350/560 | F13: 1335 | H13: =F13*G13 -> 0
B14: Домик для хомячка №1 | C14: нет | D14: ПХД21/1 | E14: 155х155/150 | F14: 453 | H14: =F14*G14 -> 0
B15: Домик для хомячка №2 | C15: нет | D15: ПХД21/2 | E15: 175х175/180 | F15: 654 | H15: =F15*G15 -> 0
B16: Домик для грызуна №1/1 | C16: нет | D16: ИНП103/1 | E16: 235*190/160 | F16: 634 | H16: =F16*G16 -> 0
B17: Домик для грызуна №1/2 | C17: нет | D17: ИНП103/2 | E17: 235*190/160 | F17: 634 | H17: =F17*G17 -> 0
B18: Домик для грызуна №1/3 | C18: нет | D18: ИНП103/3 | E18: 235*190/160 | F18: 634 | H18: =F18*G18 -> 0
B19: Домик "Шалаш" | C19: воздушные шары | D19: ПХД14в | E19: 520х520/700 | F19: 3989 | H19: =F19*G19 -> 0
B20: Домик "Шалаш" | C20: терракота | D20: ПХД14т | F20: 3989 | H20: =F19*G20 -> 0
B21: Домик "Шалаш" | C21: горчица | D21: ПХД14г | F21: 3989 | H21: =F19*G21 -> 0
B22: Лежак для собаки овальный | C22: терракота | D22: ИНП94/т | E22: 960*690/190 | F22: 5581 | H22: =F22*G22 -> 0
B23: Лежак для собаки овальный | C23: горчица | D23: ИНП94/г | F23: 5581 | H23: =F22*G23 -> 0
B24: Софа прямоугольная №1 | C24: терракота | D24: НХП115/1т | E24: 560х370/330 | F24: 2942 | H24: =F24*G24 -> 0
B25: Софа прямоугольная №1 | C25: воздушные шары | D25: НХП115/1в | F25: 2942 | H25: =F24*G25 -> 0
B26: Софа прямоугольная №1 | C26: саванна | D26: НХП115/1с | F26: 2942 | H26: =F24*G26 -> 0
B27: Софа прямоугольная №1 | C27: молочный шоколад | D27: НХП115/1м | F27: 2942 | H27: =F24*G27 -> 0
B28: Софа прямоугольная №1 | C28: горчица | D28: НХП115/1г | F28: 2942 | H28: =F24*G28 -> 0
B29: Софа прямоугольная №1 | C29: европа | D29: НХП115/1е | F29: 2942 | H29: =F24*G29 -> 0
B30: Софа прямоугольная №2 | C30: терракота | D30: НХП115/2т | E30: 650х460/360 | F30: 3873 | H30: =F30*G30 -> 0
B31: Софа прямоугольная №2 | C31: воздушные шары | D31: НХП115/2в | F31: 3873 | H31: =F30*G31 -> 0
B32: Софа прямоугольная №2 | C32: саванна | D32: НХП115/2с | F32: 3873 | H32: =F30*G32 -> 0
B33: Софа прямоугольная №2 | C33: молочный шоколад | D33: НХП115/2м | F33: 3873 | H33: =F30*G33 -> 0
B34: Софа прямоугольная №2 | C34: горчица | D34: НХП115/2г | F34: 3873 | H34: =F30*G34 -> 0
B35: Софа прямоугольная №2 | C35: европа | D35: НХП115/2е | F35: 3873 | H35: =F30*G35 -> 0
B36: "Софа" круглая | C36: терракота | D36: ПХД16/т | E36: 570х480/350 | F36: 3649 | H36: =F36*G36 -> 0
B37: "Софа" круглая | C37: воздушные шары | D37: ПХД16/в | F37: 3649 | H37: =F36*G37 -> 0
B38: "Софа" круглая | C38: горчица | D38: ПХД16/г | F38: 3649 | H38: =F36*G38 -> 0
B39: "Софа" круглая | C39: европа | D39: ПХД16/е | F39: 3649 | H39: =F36*G39 -> 0
B40: Лежак "Фигурный" №1 | C40: терракота | D40: ИНП93/1т | E40: 680*430/150 | F40: 2865 | H40: =F40*G40 -> 0
...
