Workbook

Sheet заказ
A1: № п/п | B1: наименование | C1: цвет матраса | D1: артикул | E1: цена опт | F1: кол-во | G1: сумма
A2: 1 | B2: =каталог!B11 -> Гнездо №1 | C2: =каталог!C11 -> нет | D2: =каталог!D11 -> ПХД22/1 | E2: =каталог!F11 -> 653 | F2: =каталог!G11 -> 0 | G2: =E2*F2 -> 0
B3: =каталог!B12 -> Гнездо №2 | C3: =каталог!C12 -> нет | D3: =каталог!D12 -> ПХД22/2 | E3: =каталог!F12 -> 756 | F3: =каталог!G12 -> 0 | G3: =E3*F3 -> 0
A4: 2 | B4: =каталог!B13 -> Гнездо №3 | C4: =каталог!C13 -> нет | D4: =каталог!D13 -> ИНП95 | E4: =каталог!F13 -> 1335 | F4: =каталог!G13 -> 0 | G4: =E4*F4 -> 0
A5: 3 | B5: =каталог!B14 -> Домик для хомячка №1 | C5: =каталог!C14 -> нет | D5: =каталог!D14 -> ПХД21/1 | E5: =каталог!F14 -> 453 | F5: =каталог!G14 -> 0 | G5: =E5*F5 -> 0
B6: =каталог!B15 -> Домик для хомячка №2 | C6: =каталог!C15 -> нет | D6: =каталог!D15 -> ПХД21/2 | E6: =каталог!F15 -> 654 | F6: =каталог!G15 -> 0 | G6: =E6*F6 -> 0
A7: 4 | B7: =каталог!B16 -> Домик для грызуна №1/1 | C7: =каталог!C16 -> нет | D7: =каталог!D16 -> ИНП103/1 | E7: =каталог!F16 -> 634 | F7: =каталог!G16 -> 0 | G7: =E7*F7 -> 0
B8: =каталог!B17 -> Домик для грызуна №1/2 | C8: =каталог!C17 -> нет | D8: =каталог!D17 -> ИНП103/2 | E8: =каталог!F17 -> 634 | F8: =каталог!G17 -> 0 | G8: =E8*F8 -> 0
B9: =каталог!B18 -> Домик для грызуна №1/3 | C9: =каталог!C18 -> нет | D9: =каталог!D18 -> ИНП103/3 | E9: =каталог!F18 -> 634 | F9: =каталог!G18 -> 0 | G9: =E9*F9 -> 0
A10: 5 | B10: =каталог!B19 -> Домик "Шалаш" | C10: =каталог!C19 -> воздушные шары | D10: =каталог!D19 -> ПХД14в | E10: =каталог!F19 -> 3989 | F10: =каталог!G19 -> 0 | G10: =E10*F10 -> 0
B11: =каталог!B20 -> Домик "Шалаш" | C11: =каталог!C20 -> терракота | D11: =каталог!D20 -> ПХД14т | E11: =каталог!F20 -> 3989 | F11: =каталог!G20 -> 0 | G11: =E11*F11 -> 0
B12: =каталог!B21 -> Домик "Шалаш" | C12: =каталог!C21 -> горчица | D12: =каталог!D21 -> ПХД14г | E12: =каталог!F21 -> 3989 | F12: =каталог!G21 -> 0 | G12: =E12*F12 -> 0
A13: 6 | B13: =каталог!B22 -> Лежак для собаки овальный | C13: =каталог!C22 -> терракота | D13: =каталог!D22 -> ИНП94/т | E13: =каталог!F22 -> 5581 | F13: =каталог!G22 -> 0 | G13: =E13*F13 -> 0
B14: =каталог!B23 -> Лежак для собаки овальный | C14: =каталог!C23 -> горчица | D14: =каталог!D23 -> ИНП94/г | E14: =каталог!F23 -> 5581 | F14: =каталог!G23 -> 0 | G14: =E14*F14 -> 0
A15: 7 | B15: =каталог!B24 -> Софа прямоугольная №1 | C15: =каталог!C24 -> терракота | D15: =каталог!D24 -> НХП115/1т | E15: =каталог!F24 -> 2942 | F15: =каталог!G24 -> 0 | G15: =E15*F15 -> 0
B16: =каталог!B25 -> Софа прямоугольная №1 | C16: =каталог!C25 -> воздушные шары | D16: =каталог!D25 -> НХП115/1в | E16: =каталог!F25 -> 2942 | F16: =каталог!G25 -> 0 | G16: =E16*F16 -> 0
B17: =каталог!B26 -> Софа прямоугольная №1 | C17: =каталог!C26 -> саванна | D17: =каталог!D26 -> НХП115/1с | E17: =каталог!F26 -> 2942 | F17: =каталог!G26 -> 0 | G17: =E17*F17 -> 0
B18: =каталог!B27 -> Софа прямоугольная №1 | C18: =каталог!C27 -> молочный шоколад | D18: =каталог!D27 -> НХП115/1м | E18: =каталог!F27 -> 2942 | F18: =каталог!G27 -> 0 | G18: =E18*F18 -> 0
B19: =каталог!B28 -> Софа прямоугольная №1 | C19: =каталог!C28 -> горчица | D19: =каталог!D28 -> НХП115/1г | E19: =каталог!F28 -> 2942 | F19: =каталог!G28 -> 0 | G19: =E19*F19 -> 0
B20: =каталог!B29 -> Софа прямоугольная №1 | C20: =каталог!C29 -> европа | D20: =каталог!D29 -> НХП115/1е | E20: =каталог!F29 -> 2942 | F20: =каталог!G29 -> 0 | G20: =E20*F20 -> 0
B21: =каталог!B30 -> Софа прямоугольная №2 | C21: =каталог!C30 -> терракота | D21: =каталог!D30 -> НХП115/2т | E21: =каталог!F30 -> 3873 | F21: =каталог!G30 -> 0 | G21: =E21*F21 -> 0
B22: =каталог!B31 -> Софа прямоугольная №2 | C22: =каталог!C31 -> воздушные шары | D22: =каталог!D31 -> НХП115/2в | E22: =каталог!F31 -> 3873 | F22: =каталог!G31 -> 0 | G22: =E22*F22 -> 0
B23: =каталог!B32 -> Софа прямоугольная №2 | C23: =каталог!C32 -> саванна | D23: =каталог!D32 -> НХП115/2с | E23: =каталог!F32 -> 3873 | F23: =каталог!G32 -> 0 | G23: =E23*F23 -> 0
B24: =каталог!B33 -> Софа прямоугольная №2 | C24: =каталог!C33 -> молочный шоколад | D24: =каталог!D33 -> НХП115/2м | E24: =каталог!F33 -> 3873 | F24: =каталог!G33 -> 0 | G24: =E24*F24 -> 0
B25: =каталог!B34 -> Софа прямоугольная №2 | C25: =каталог!C34 -> горчица | D25: =каталог!D34 -> НХП115/2г | E25: =каталог!F34 -> 3873 | F25: =каталог!G34 -> 0 | G25: =E25*F25 -> 0
B26: =каталог!B35 -> Софа прямоугольная №2 | C26: =каталог!C35 -> европа | D26: =каталог!D35 -> НХП115/2е | E26: =каталог!F35 -> 3873 | F26: =каталог!G35 -> 0 | G26: =E26*F26 -> 0
A27: 8 | B27: =каталог!B36 -> "Софа" круглая | C27: =каталог!C36 -> терракота | D27: =каталог!D36 -> ПХД16/т | E27: =каталог!F36 -> 3649 | F27: =каталог!G36 -> 0 | G27: =E27*F27 -> 0
B28: =каталог!B37 -> "Софа" круглая | C28: =каталог!C37 -> воздушные шары | D28: =каталог!D37 -> ПХД16/в | E28: =каталог!F37 -> 3649 | F28: =каталог!G37 -> 0 | G28: =E28*F28 -> 0
B29: =каталог!B38 -> "Софа" круглая | C29: =каталог!C38 -> горчица | D29: =каталог!D38 -> ПХД16/г | E29: =каталог!F38 -> 3649 | F29: =каталог!G38 -> 0 | G29: =E29*F29 -> 0
B30: =каталог!B39 -> "Софа" круглая | C30: =каталог!C39 -> европа | D30: =каталог!D39 -> ПХД16/е | E30: =каталог!F39 -> 3649 | F30: =каталог!G39 -> 0 | G30: =E30*F30 -> 0
A31: 9 | B31: =каталог!B40 -> Лежак "Фигурный" №1 | C31: =каталог!C40 -> терракота | D31: =каталог!D40 -> ИНП93/1т | E31: =каталог!F40 -> 2865 | F31: =каталог!G40 -> 0 | G31: =E31*F31 -> 0
B32: =каталог!B41 -> Лежак "Фигурный" №1 | C32: =каталог!C41 -> воздушные шары | D32: =каталог!D41 -> ИНП93/1в | E32: =каталог!F41 -> 2865 | F32: =каталог!G41 -> 0 | G32: =E32*F32 -> 0
B33: =каталог!B42 -> Лежак "Фигурный" №1 | C33: =каталог!C42 -> саванна | D33: =каталог!D42 -> ИНП93/1с | E33: =каталог!F42 -> 2865 | F33: =каталог!G42 -> 0 | G33: =E33*F33 -> 0
B34: =каталог!B43 -> Лежак "Фигурный" №1 | C34: =каталог!C43 -> молочный шоколад | D34: =каталог!D43 -> ИНП93/1м | E34: =каталог!F43 -> 2865 | F34: =каталог!G43 -> 0 | G34: =E34*F34 -> 0
B35: =каталог!B44 -> Лежак "Фигурный" №1 | C35: =каталог!C44 -> горчица | D35: =каталог!D44 -> ИНП93/1г | E35: =каталог!F44 -> 2865 | F35: =каталог!G44 -> 0 | G35: =E35*F35 -> 0
B36: =каталог!B45 -> Лежак "Фигурный" №1 | C36: =каталог!C45 -> европа | D36: =каталог!D45 -> ИНП93/1е | E36: =каталог!F45 -> 2865 | F36: =каталог!G45 -> 0 | G36: =E36*F36 -> 0
B37: =каталог!B46 -> Лежак "Фигурный" №2 | C37: =каталог!C46 -> терракота | D37: =каталог!D46 -> ИНП93/2т | E37: =каталог!F46 -> 3767 | F37: =каталог!G46 -> 0 | G37: =E37*F37 -> 0
B38: =каталог!B47 -> Лежак "Фигурный" №2 | C38: =каталог!C47 -> воздушные шары | D38: =каталог!D47 -> ИНП93/2в | E38: =каталог!F47 -> 3767 | F38: =каталог!G47 -> 0 | G38: =E38*F38 -> 0
B39: =каталог!B48 -> Лежак "Фигурный" №2 | C39: =каталог!C48 -> саванна | D39: =каталог!D48 -> ИНП93/2с | E39: =каталог!F48 -> 3767 | F39: =каталог!G48 -> 0 | G39: =E39*F39 -> 0
B40: =каталог!B49 -> Лежак "Фигурный" №2 | C40: =каталог!C49 -> молочный шоколад | D40: =каталог!D49 -> ИНП93/2м | E40: =каталог!F49 -> 3767 | F40: =каталог!G49 -> 0 | G40: =E40*F40 -> 0
B41: =каталог!B50 -> Лежак "Фигурный" №2 | C41: =каталог!C50 -> горчица | D41: =каталог!D50 -> ИНП93/2г | E41: =каталог!F50 -> 3767 | F41: =каталог!G50 -> 0 | G41: =E41*F41 -> 0
B42: =каталог!B51 -> Лежак "Фигурный" №2 | C42: =каталог!C51 -> европа | D42: =каталог!D51 -> ИНП93/2е | E42: =каталог!F51 -> 3767 | F42: =каталог!G51 -> 0 | G42: =E42*F42 -> 0
A43: 10 | B43: =каталог!B52 -> Домик "Теремок" №1 | C43: =каталог!C52 -> воздушные шары | D43: =каталог!D52 -> ПХД11/1в | E43: =каталог!F52 -> 1999 | F43: =каталог!G52 -> 0 | G43: =E43*F43 -> 0
B44: =каталог!B53 -> Домик "Теремок" №1 | C44: =каталог!C53 -> терракота | D44: =каталог!D53 -> ПХД11/1т | E44: =каталог!F53 -> 1999 | F44: =каталог!G53 -> 0 | G44: =E44*F44 -> 0
B45: =каталог!B54 -> Домик "Теремок" №1 | C45: =каталог!C54 -> горчица | D45: =каталог!D54 -> ПХД11/1г | E45: =каталог!F54 -> 1999 | F45: =каталог!G54 -> 0 | G45: =E45*F45 -> 0
B46: =каталог!B55 -> Домик "Теремок" №2 | C46: =каталог!C55 -> воздушные шары | D46: =каталог!D55 -> ПХД11/2в | E46: =каталог!F55 -> 2405 | F46: =каталог!G55 -> 0 | G46: =E46*F46 -> 0
B47: =каталог!B56 -> Домик "Теремок" №2 | C47: =каталог!C56 -> терракота | D47: =каталог!D56 -> ПХД11/2т | E47: =каталог!F56 -> 2405 | F47: =каталог!G56 -> 0 | G47: =E47*F47 -> 0
B48: =каталог!B57 -> Домик "Теремок" №2 | C48: =каталог!C57 -> горчица | D48: =каталог!D57 -> ПХД11/2г | E48: =каталог!F57 -> 2405 | F48: =каталог!G57 -> 0 | G48: =E48*F48 -> 0
B49: =каталог!B58 -> Домик "Теремок" №3 | C49: =каталог!C58 -> воздушные шары | D49: =каталог!D58 -> ПХД11/3в | E49: =каталог!F58 -> 2838 | F49: =каталог!G58 -> 0 | G49: =E49*F49 -> 0
B50: =каталог!B59 -> Домик "Теремок" №3 | C50: =каталог!C59 -> терракота | D50: =каталог!D59 -> ПХД11/3т | E50: =каталог!F59 -> 2838 | F50: =каталог!G59 -> 0 | G50: =E50*F50 -> 0
B51: =каталог!B60 -> Домик "Теремок" №3 | C51: =каталог!C60 -> горчица | D51: =каталог!D60 -> ПХД11/3г | E51: =каталог!F60 -> 2838 | F51: =каталог!G60 -> 0 | G51: =E51*F51 -> 0
A52: 11 | B52: =каталог!B61 -> Домик "Будка" №1 | C52: =каталог!C61 -> воздушные шары | D52: =каталог!D61 -> ПХД10/1в | E52: =каталог!F61 -> 2525 | F52: =каталог!G61 -> 0 | G52: =E52*F52 -> 0
B53: =каталог!B62 -> Домик "Будка" №1 | C53: =каталог!C62 -> терракота | D53: =каталог!D62 -> ПХД10/1т | E53: =каталог!F62 -> 2525 | F53: =каталог!G62 -> 0 | G53: =E53*F53 -> 0
B54: =каталог!B63 -> Домик "Будка" №1 | C54: =каталог!C63 -> горчица | D54: =каталог!D63 -> ПХД10/1г | E54: =каталог!F63 -> 2525 | F54: =каталог!G63 -> 0 | G54: =E54*F54 -> 0
B55: =каталог!B64 -> Домик "Будка" №2 | C55: =каталог!C64 -> воздушные шары | D55: =каталог!D64 -> ПХД10/2в | E55: =каталог!F64 -> 3020 | F55: =каталог!G64 -> 0 | G55: =E55*F55 -> 0
B56: =каталог!B65 -> Домик "Будка" №2 | C56: =каталог!C65 -> терракота | D56: =каталог!D65 -> ПХД10/2т | E56: =каталог!F65 -> 3020 | F56: =каталог!G65 -> 0 | G56: =E56*F56 -> 0
B57: =каталог!B66 -> Домик "Будка" №2 | C57: =каталог!C66 -> горчица | D57: =каталог!D66 -> ПХД10/2г | E57: =каталог!F66 -> 3020 | F57: =каталог!G66 -> 0 | G57: =E57*F57 -> 0
A58: 12 | B58: =каталог!B67 -> Дом овальный закрытый | C58: =каталог!C67 -> воздушные шары | D58: =каталог!D67 -> ПХД9в | E58: =каталог!F67 -> 2779 | F58: =каталог!G67 -> 0 | G58: =E58*F58 -> 0
A59: 13 | B59: =каталог!B68 -> Дом овальный закрытый | C59: =каталог!C68 -> терракота | D59: =каталог!D68 -> ПХД9т | E59: =каталог!F68 -> 2779 | F59: =каталог!G68 -> 0 | G59: =E59*F59 -> 0
B60: =каталог!B69 -> Дом овальный закрытый | C60: =каталог!C69 -> горчица | D60: =каталог!D69 -> ПХД9г | E60: =каталог!F69 -> 2779 | F60: =каталог!G69 -> 0 | G60: =E60*F60 -> 0
A61: 14 | B61: =каталог!B70 -> Корзина-переноска для кошки (плетёные дно и крышка) №2 | C61: =каталог!C70 -> нет | D61: =каталог!D70 -> НХП17/2 | E61: =каталог!F70 -> 1986 | F61: =каталог!G70 -> 0 | G61: =E61*F61 -> 0
A62: 15 | B62: =каталог!B71 -> Переноска прямоугольная №3 | C62: =каталог!C71 -> воздушные шары | D62: =каталог!D71 -> ПХД19в | E62: =каталог!F71 -> 2700 | F62: =каталог!G71 -> 0 | G62: =E62*F62 -> 0
B63: =каталог!B72 -> Переноска прямоугольная №3 | C63: =каталог!C72 -> терракота | D63: =каталог!D72 -> ПХД19т | E63: =каталог!F72 -> 2700 | F63: =каталог!G72 -> 0 | G63: =E63*F63 -> 0
B64: =каталог!B73 -> Переноска прямоугольная №3 | C64: =каталог!C73 -> горчица | D64: =каталог!D73 -> ПХД19г | E64: =каталог!F73 -> 2700 | F64: =каталог!G73 -> 0 | G64: =E64*F64 -> 0
A65: 16 | B65: =каталог!B74 -> Переноска круглая №2 | C65: =каталог!C74 -> воздушные шары | D65: =каталог!D74 -> ПХД17в | E65: =каталог!F74 -> 2534 | F65: =каталог!G74 -> 0 | G65: =E65*F65 -> 0
B66: =каталог!B75 -> Переноска круглая №2 | C66: =каталог!C75 -> терракота | D66: =каталог!D75 -> ПХД17т | E66: =каталог!F75 -> 2534 | F66: =каталог!G75 -> 0 | G66: =E66*F66 -> 0
B67: =каталог!B76 -> Переноска круглая №2 | C67: =каталог!C76 -> горчица | D67: =каталог!D76 -> ПХД17г | E67: =каталог!F76 -> 2534 | F67: =каталог!G76 -> 0 | G67: =E67*F67 -> 0
A68: 17 | B68: =каталог!B77 -> Корзина "Полузакрытая" №2 | C68: =каталог!C77 -> воздушные шары | D68: =каталог!D77 -> ПХД1/2в | E68: =каталог!F77 -> 2079 | F68: =каталог!G77 -> 0 | G68: =E68*F68 -> 0
B69: =каталог!B78 -> Корзина "Полузакрытая" №2 | C69: =каталог!C78 -> терракота | D69: =каталог!D78 -> ПХД1/2т | E69: =каталог!F78 -> 2079 | F69: =каталог!G78 -> 0 | G69: =E69*F69 -> 0
B70: =каталог!B79 -> Корзина "Полузакрытая" №2 | C70: =каталог!C79 -> саванна | D70: =каталог!D79 -> ПХД1/2с | E70: =каталог!F79 -> 2079 | F70: =каталог!G79 -> 0 | G70: =E70*F70 -> 0
B71: =каталог!B80 -> Корзина "Полузакрытая" №3 | C71: =каталог!C80 -> воздушные шары | D71: =каталог!D80 -> ПХД1/3в | E71: =каталог!F80 -> 2611 | F71: =каталог!G80 -> 0 | G71: =E71*F71 -> 0
B72: =каталог!B81 -> Корзина "Полузакрытая" №3 | C72: =каталог!C81 -> терракота | D72: =каталог!D81 -> ПХД1/3т | E72: =каталог!F81 -> 2611 | F72: =каталог!G81 -> 0 | G72: =E72*F72 -> 0
B73: =каталог!B82 -> Корзина "Полузакрытая" №3 | C73: =каталог!C82 -> саванна | D73: =каталог!D82 -> ПХД1/3с | E73: =каталог!F82 -> 2611 | F73: =каталог!G82 -> 0 | G73: =E73*F73 -> 0
B74: =каталог!B83 -> Корзина "Полузакрытая" №4 | C74: =каталог!C83 -> воздушные шары | D74: =каталог!D83 -> ПХД1/4в | E74: =каталог!F83 -> 3244 | F74: =каталог!G83 -> 0 | G74: =E74*F74 -> 0
B75: =каталог!B84 -> Корзина "Полузакрытая" №4 | C75: =каталог!C84 -> терракота | D75: =каталог!D84 -> ПХД1/4т | E75: =каталог!F84 -> 3244 | F75: =каталог!G84 -> 0 | G75: =E75*F75 -> 0
B76: =каталог!B85 -> Корзина "Полузакрытая" №4 | C76: =каталог!C85 -> саванна | D76: =каталог!D85 -> ПХД1/4с | E76: =каталог!F85 -> 3244 | F76: =каталог!G85 -> 0 | G76: =E76*F76 -> 0
A77: 18 | B77: =каталог!B86 -> Домик игровой | C77: =каталог!C86 -> терракота | D77: =каталог!D86 -> ПХД7т | E77: =каталог!F86 -> 1583 | F77: =каталог!G86 -> 0 | G77: =E77*F77 -> 0
B78: =каталог!B87 -> Домик игровой | C78: =каталог!C87 -> воздушные шары | D78: =каталог!D87 -> ПХД7в | E78: =каталог!F87 -> 1583 | F78: =каталог!G87 -> 0 | G78: =E78*F78 -> 0
B79: =каталог!B88 -> Домик игровой | C79: =каталог!C88 -> саванна | D79: =каталог!D88 -> ПХД7с | E79: =каталог!F88 -> 1583 | F79: =каталог!G88 -> 0 | G79: =E79*F79 -> 0
B80: =каталог!B89 -> Домик игровой | C80: =каталог!C89 -> молочный шоколад | D80: =каталог!D89 -> ПХД7м | E80: =каталог!F89 -> 1583 | F80: =каталог!G89 -> 0 | G80: =E80*F80 -> 0
B81: =каталог!B90 -> Домик игровой | C81: =каталог!C90 -> горчица | D81: =каталог!D90 -> ПХД7г | E81: =каталог!F90 -> 1583 | F81: =каталог!G90 -> 0 | G81: =E81*F81 -> 0
B82: =каталог!B91 -> Домик игровой | C82: =каталог!C91 -> европа | D82: =каталог!D91 -> ПХД7е | E82: =каталог!F91 -> 1583 | F82: =каталог!G91 -> 0 | G82: =E82*F82 -> 0
A83: 19 | B83: =каталог!B92 -> Лежак "Угловой" (из прута) №1 | C83: =каталог!C92 -> терракота | D83: =каталог!D92 -> ИНП82/1т | E83: =каталог!F92 -> 2083 | F83: =каталог!G92 -> 0 | G83: =E83*F83 -> 0
B84: =каталог!B93 -> Лежак "Угловой" (из прута) №1 | C84: =каталог!C93 -> воздушные шары | D84: =каталог!D93 -> ИНП82/1в | E84: =каталог!F93 -> 2083 | F84: =каталог!G93 -> 0 | G84: =E84*F84 -> 0
B85: =каталог!B94 -> Лежак "Угловой" (из прута) №1 | C85: =каталог!C94 -> саванна | D85: =каталог!D94 -> ИНП82/1с | E85: =каталог!F94 -> 2083 | F85: =каталог!G94 -> 0 | G85: =E85*F85 -> 0
B86: =каталог!B95 -> Лежак "Угловой" (из прута) №1 | C86: =каталог!C95 -> молочный шоколад | D86: =каталог!D95 -> ИНП82/1м | E86: =каталог!F95 -> 2083 | F86: =каталог!G95 -> 0 | G86: =E86*F86 -> 0
B87: =каталог!B96 -> Лежак "Угловой" (из прута) №1 | C87: =каталог!C96 -> горчица | D87: =каталог!D96 -> ИНП82/1г | E87: =каталог!F96 -> 2083 | F87: =каталог!G96 -> 0 | G87: =E87*F87 -> 0
B88: =каталог!B97 -> Лежак "Угловой" (из прута) №1 | C88: =каталог!C97 -> европа | D88: =каталог!D97 -> ИНП82/1е | E88: =каталог!F97 -> 2083 | F88: =каталог!G97 -> 0 | G88: =E88*F88 -> 0
B89: =каталог!B98 -> Лежак "Угловой" (из прута) №2 | C89: =каталог!C98 -> терракота | D89: =каталог!D98 -> ИНП82/2т | E89: =каталог!F98 -> 2559 | F89: =каталог!G98 -> 0 | G89: =E89*F89 -> 0
B90: =каталог!B99 -> Лежак "Угловой" (из прута) №2 | C90: =каталог!C99 -> воздушные шары | D90: =каталог!D99 -> ИНП82/2в | E90: =каталог!F99 -> 2559 | F90: =каталог!G99 -> 0 | G90: =E90*F90 -> 0
B91: =каталог!B100 -> Лежак "Угловой" (из прута) №2 | C91: =каталог!C100 -> саванна | D91: =каталог!D100 -> ИНП82/2с | E91: =каталог!F100 -> 2559 | F91: =каталог!G100 -> 0 | G91: =E91*F91 -> 0
B92: =каталог!B101 -> Лежак "Угловой" (из прута) №2 | C92: =каталог!C101 -> молочный шоколад | D92: =каталог!D101 -> ИНП82/2м | E92: =каталог!F101 -> 2559 | F92: =каталог!G101 -> 0 | G92: =E92*F92 -> 0
B93: =каталог!B102 -> Лежак "Угловой" (из прута) №2 | C93: =каталог!C102 -> горчица | D93: =каталог!D102 -> ИНП82/2г | E93: =каталог!F102 -> 2559 | F93: =каталог!G102 -> 0 | G93: =E93*F93 -> 0
B94: =каталог!B103 -> Лежак "Угловой" (из прута) №2 | C94: =каталог!C103 -> европа | D94: =каталог!D103 -> ИНП82/2е | E94: =каталог!F103 -> 2559 | F94: =каталог!G103 -> 0 | G94: =E94*F94 -> 0
B95: =каталог!B104 -> Лежак "Угловой" (из прута) №3 | C95: =каталог!C104 -> терракота | D95: =каталог!D104 -> ИНП82/3т | E95: =каталог!F104 -> 3193 | F95: =каталог!G104 -> 0 | G95: =E95*F95 -> 0
... B100: =каталог!B109 -> Лежак "Угловой" (из прута) №3 | C100: =каталог!C109 -> европа | D100: =каталог!D109 -> ИНП82/3е | E100: =каталог!F109 -> 3193 | F100: =каталог!G109 -> 0 | G100: =E100*F100 -> 0
A101: 20 | B101: =каталог!B110 -> Лежак "Угловой" №1 | C101: =каталог!C110 -> терракота | D101: =каталог!D110 -> ПХД27/1т | E101: =каталог!F110 -> 2069 | F101: =каталог!G110 -> 0 | G101: =E101*F101 -> 0
B102: =каталог!B111 -> Лежак "Угловой" №1 | C102: =каталог!C111 -> воздушные шары | D102: =каталог!D111 -> ПХД27/1в | E102: =каталог!F111 -> 2069 | F102: =каталог!G111 -> 0 | G102: =E102*F102 -> 0
B103: =каталог!B112 -> Лежак "Угловой" №1 | C103: =каталог!C112 -> саванна | D103: =каталог!D112 -> ПХД27/1с | E103: =каталог!F112 -> 2069 | F103: =каталог!G112 -> 0 | G103: =E103*F103 -> 0
B104: =каталог!B113 -> Лежак "Угловой" №1 | C104: =каталог!C113 -> молочный шоколад | D104: =каталог!D113 -> ПХД27/1м | E104: =каталог!F113 -> 2069 | F104: =каталог!G113 -> 0 | G104: =E104*F104 -> 0
...

Sheet ткани
A1: саванна | B1: воздушные шары | C1: терракота
A4: горчица | B4: европа | C4: молочный шоколад

Sheet каталог
B1: ВЯТСКАЯ КОРЗИНА (ВЯТСКИЙ КОРЗИНОЧНЫЙ ПРОМЫСЕЛ)
A2: Корзины для животных
A3: Правообладатель ООО "Азимут" Кировская обл., г.Кирово-Чепецк, ул.Калинина, д.7, ( 83361) 4-75-33, e-mail:ivolga4@yandex.ru Продукции предприятия ООО «Азимут» присвоен официальный статус изделий народных художественных промыслов России.
A4: Плетёные из лозы лежанки, корзины, спальные места и игровые домики для домашних любимцев служат настоящим украшением любого дома. Все изделия ручной работы. Стильные и удобные, качественные и безопасные. Указаны габаритные размеры корзин (длина х ширина / высота).
A5: ПХД - изделия признанного художественного достоинства
A6: НХП - изделия народных художественных промыслов Кировской области
A7: ИНП - изделия народных промыслов
A8: Цвет матраса: | B8: саванна | D8: молочный шоколад | F8: европа
B9: терракота | D9: воздушные шары | F9: горчица
A10: фото | B10: наименование | C10: цвет матраса | D10: артикул | E10: размеры (длина*ширина /глубина/высота ручки) | F10: цена опт | G10: кол-во | H10: сумма
B11: Гнездо №1 | C11: нет | D11: ПХД22/1 | E11: 160х160/180 | F11: 653 | H11: =F11*G11 -> 0
B12: Гнездо №2 | C12: нет | D12: ПХД22/2 | E12: 180х180/230 | F12: 756 | H12: =F12*G12 -> 0
B13: Гнездо №3 | C13: нет | D13: ИНП95 | E13: 260*290/350/560 | F13: 1335 | H13: =F13*G13 -> 0
B14: Домик для хомячка №1 | C14: нет | D14: ПХД21/1 | E14: 155х155/150 | F14: 453 | H14: =F14*G14 -> 0
B15: Домик для хомячка №2 | C15: нет | D15: ПХД21/2 | E15: 175х175/180 | F15: 654 | H15: =F15*G15 -> 0
B16: Домик для грызуна №1/1 | C16: нет | D16: ИНП103/1 | E16: 235*190/160 | F16: 634 | H16: =F16*G16 -> 0
B17: Домик для грызуна №1/2 | C17: нет | D17: ИНП103/2 | E17: 235*190/160 | F17: 634 | H17: =F17*G17 -> 0
B18: Домик для грызуна №1/3 | C18: нет | D18: ИНП103/3 | E18: 235*190/160 | F18: 634 | H18: =F18*G18 -> 0
B19: Домик "Шалаш" | C19: воздушные шары | D19: ПХД14в | E19: 520х520/700 | F19: 3989 | H19: =F19*G19 -> 0
B20: Домик "Шалаш" | C20: терракота | D20: ПХД14т | F20: 3989 | H20: =F19*G20 -> 0
B21: Домик "Шалаш" | C21: горчица | D21: ПХД14г | F21: 3989 | H21: =F19*G21 -> 0
B22: Лежак для собаки овальный | C22: терракота | D22: ИНП94/т | E22: 960*690/190 | F22: 5581 | H22: =F22*G22 -> 0
B23: Лежак для собаки овальный | C23: горчица | D23: ИНП94/г | F23: 5581 | H23: =F22*G23 -> 0
B24: Софа прямоугольная №1 | C24: терракота | D24: НХП115/1т | E24: 560х370/330 | F24: 2942 | H24: =F24*G24 -> 0
B25: Софа прямоугольная №1 | C25: воздушные шары | D25: НХП115/1в | F25: 2942 | H25: =F24*G25 -> 0
B26: Софа прямоугольная №1 | C26: саванна | D26: НХП115/1с | F26: 2942 | H26: =F24*G26 -> 0
B27: Софа прямоугольная №1 | C27: молочный шоколад | D27: НХП115/1м | F27: 2942 | H27: =F24*G27 -> 0
B28: Софа прямоугольная №1 | C28: горчица | D28: НХП115/1г | F28: 2942 | H28: =F24*G28 -> 0
B29: Софа прямоугольная №1 | C29: европа | D29: НХП115/1е | F29: 2942 | H29: =F24*G29 -> 0
B30: Софа прямоугольная №2 | C30: терракота | D30: НХП115/2т | E30: 650х460/360 | F30: 3873 | H30: =F30*G30 -> 0
B31: Софа прямоугольная №2 | C31: воздушные шары | D31: НХП115/2в | F31: 3873 | H31: =F30*G31 -> 0
B32: Софа прямоугольная №2 | C32: саванна | D32: НХП115/2с | F32: 3873 | H32: =F30*G32 -> 0
B33: Софа прямоугольная №2 | C33: молочный шоколад | D33: НХП115/2м | F33: 3873 | H33: =F30*G33 -> 0
B34: Софа прямоугольная №2 | C34: горчица | D34: НХП115/2г | F34: 3873 | H34: =F30*G34 -> 0
B35: Софа прямоугольная №2 | C35: европа | D35: НХП115/2е | F35: 3873 | H35: =F30*G35 -> 0
B36: "Софа" круглая | C36: терракота | D36: ПХД16/т | E36: 570х480/350 | F36: 3649 | H36: =F36*G36 -> 0
B37: "Софа" круглая | C37: воздушные шары | D37: ПХД16/в | F37: 3649 | H37: =F36*G37 -> 0
B38: "Софа" круглая | C38: горчица | D38: ПХД16/г | F38: 3649 | H38: =F36*G38 -> 0
B39: "Софа" круглая | C39: европа | D39: ПХД16/е | F39: 3649 | H39: =F36*G39 -> 0
B40: Лежак "Фигурный" №1 | C40: терракота | D40: ИНП93/1т | E40: 680*430/150 | F40: 2865 | H40: =F40*G40 -> 0
B41: Лежак "Фигурный" №1 | C41: воздушные шары | D41: ИНП93/1в | F41: 2865 | H41: =F40*G41 -> 0
B42: Лежак "Фигурный" №1 | C42: саванна | D42: ИНП93/1с | F42: 2865 | H42: =F40*G42 -> 0
B43: Лежак "Фигурный" №1 | C43: молочный шоколад | D43: ИНП93/1м | F43: 2865 | H43: =F40*G43 -> 0
B44: Лежак "Фигурный" №1 | C44: горчица | D44: ИНП93/1г | F44: 2865 | H44: =F40*G44 -> 0
B45: Лежак "Фигурный" №1 | C45: европа | D45: ИНП93/1е | F45: 2865 | H45: =F40*G45 -> 0
B46: Лежак "Фигурный" №2 | C46: терракота | D46: ИНП93/2т | E46: 790*520/180 | F46: 3767 | H46: =F46*G46 -> 0
B47: Лежак "Фигурный" №2 | C47: воздушные шары | D47: ИНП93/2в | F47: 3767 | H47: =F46*G47 -> 0
B48: Лежак "Фигурный" №2 | C48: саванна | D48: ИНП93/2с | F48: 3767 | H48: =F46*G48 -> 0
B49: Лежак "Фигурный" №2 | C49: молочный шоколад | D49: ИНП93/2м | F49: 3767 | H49: =F46*G49 -> 0
B50: Лежак "Фигурный" №2 | C50: горчица | D50: ИНП93/2г | F50: 3767 | H50: =F46*G50 -> 0
B51: Лежак "Фигурный" №2 | C51: европа | D51: ИНП93/2е | F51: 3767 | H51: =F46*G51 -> 0
B52: Домик "Теремок" №1 | C52: воздушные шары | D52: ПХД11/1в | E52: 350х300/350 | F52: 1999 | H52: =F52*G52 -> 0
B53: Домик "Теремок" №1 | C53: терракота | D53: ПХД11/1т | F53: 1999 | H53: =F52*G53 -> 0
B54: Домик "Теремок" №1 | C54: горчица | D54: ПХД11/1г | F54: 1999 | H54: =F52*G54 -> 0
B55: Домик "Теремок" №2 | C55: воздушные шары | D55: ПХД11/2в | E55: 430х370/390 | F55: 2405 | H55: =F55*G55 -> 0
B56: Домик "Теремок" №2 | C56: терракота | D56: ПХД11/2т | F56: 2405 | H56: =F55*G56 -> 0
B57: Домик "Теремок" №2 | C57: горчица | D57: ПХД11/2г | F57: 2405 | H57: =F55*G57 -> 0
B58: Домик "Теремок" №3 | C58: воздушные шары | D58: ПХД11/3в | E58: 440х400/430 | F58: 2838 | H58: =F58*G58 -> 0
B59: Домик "Теремок" №3 | C59: терракота | D59: ПХД11/3т | F59: 2838 | H59: =F58*G59 -> 0
B60: Домик "Теремок" №3 | C60: горчица | D60: ПХД11/3г | F60: 2838 | H60: =F58*G60 -> 0
B61: Домик "Будка" №1 | C61: воздушные шары | D61: ПХД10/1в | E61: 360х360/380 | F61: 2525 | H61: =F61*G61 -> 0
B62: Домик "Будка" №1 | C62: терракота | D62: ПХД10/1т | F62: 2525 | H62: =F61*G62 -> 0
B63: Домик "Будка" №1 | C63: горчица | D63: ПХД10/1г | F63: 2525 | H63: =F61*G63 -> 0
B64: Домик "Будка" №2 | C64: воздушные шары | D64: ПХД10/2в | E64: 400х400/470 | F64: 3020 | H64: =F64*G64 -> 0
B65: Домик "Будка" №2 | C65: терракота | D65: ПХД10/2т | F65: 3020 | H65: =F64*G65 -> 0
B66: Домик "Будка" №2 | C66: горчица | D66: ПХД10/2г | F66: 3020 | H66: =F64*G66 -> 0
B67: Дом овальный закрытый | C67: воздушные шары | D67: ПХД9в | E67: 470х370/410 | F67: 2779 | H67: =F67*G67 -> 0
B68: Дом овальный закрытый | C68: терракота | D68: ПХД9т | F68: 2779 | H68: =F67*G68 -> 0
B69: Дом овальный закрытый | C69: горчица | D69: ПХД9г | F69: 2779 | H69: =F67*G69 -> 0
B70: Корзина-переноска для кошки (плетёные дно и крышка) №2 | C70: нет | D70: НХП17/2 | E70: 410*310/260/470 | F70: 1986 | H70: =F70*G70 -> 0
B71: Переноска прямоугольная №3 | C71: воздушные шары | D71: ПХД19в | E71: 450х320/390 | F71: 2700 | H71: =F71*G71 -> 0
B72: Переноска прямоугольная №3 | C72: терракота | D72: ПХД19т | F72: 2700 | H72: =F71*G72 -> 0
B73: Переноска прямоугольная №3 | C73: горчица | D73: ПХД19г | F73: 2700 | H73: =F71*G73 -> 0
B74: Переноска круглая №2 | C74: воздушные шары | D74: ПХД17в | E74: 370х370/350 | F74: 2534 | H74: =F74*G74 -> 0
B75: Переноска круглая №2 | C75: терракота | D75: ПХД17т | F75: 2534 | H75: =F74*G75 -> 0
B76: Переноска круглая №2 | C76: горчица | D76: ПХД17г | F76: 2534 | H76: =F74*G76 -> 0
B77: Корзина "Полузакрытая" №2 | C77: воздушные шары | D77: ПХД1/2в | E77: 460х380/370 | F77: 2079 | H77: =F77*G77 -> 0
B78: Корзина "Полузакрытая" №2 | C78: терракота | D78: ПХД1/2т | F78: 2079 | H78: =F77*G78 -> 0
B79: Корзина "Полузакрытая" №2 | C79: саванна | D79: ПХД1/2с | F79: 2079 | H79: =F77*G79 -> 0
B80: Корзина "Полузакрытая" №3 | C80: воздушные шары | D80: ПХД1/3в | E80: 560х440/460 | F80: 2611 | H80: =F80*G80 -> 0
B81: Корзина "Полузакрытая" №3 | C81: терракота | D81: ПХД1/3т | F81: 2611 | H81: =F80*G81 -> 0
B82: Корзина "Полузакрытая" №3 | C82: саванна | D82: ПХД1/3с | F82: 2611 | H82: =F80*G82 -> 0
B83: Корзина "Полузакрытая" №4 | C83: воздушные шары | D83: ПХД1/4в | E83: 660х530/550 | F83: 3244 | H83: =F83*G83 -> 0
B84: Корзина "Полузакрытая" №4 | C84: терракота | D84: ПХД1/4т | F84: 3244 | H84: =F83*G84 -> 0
B85: Корзина "Полузакрытая" №4 | C85: саванна | D85: ПХД1/4с | F85: 3244 | H85: =F83*G85 -> 0
B86: Домик игровой | C86: терракота | D86: ПХД7т | E86: 440х310/350 | F86: 1583 | H86: =F86*G86 -> 0
B87: Домик игровой | C87: воздушные шары | D87: ПХД7в | F87: 1583 | H87: =F86*G87 -> 0
B88: Домик игровой | C88: саванна | D88: ПХД7с | F88: 1583 | H88: =F86*G88 -> 0
B89: Домик игровой | C89: молочный шоколад | D89: ПХД7м | F89: 1583 | H89: =F86*G89 -> 0
B90: Домик игровой | C90: горчица | D90: ПХД7г | F90: 1583 | H90: =F86*G90 -> 0
B91: Домик игровой | C91: европа | D91: ПХД7е | F91: 1583 | H91: =F86*G91 -> 0
B92: Лежак "Угловой" (из прута) №1 | C92: терракота | D92: ИНП82/1т | E92: 590х440/175 | F92: 2083 | H92: =F92*G92 -> 0
B93: Лежак "Угловой" (из прута) №1 | C93: воздушные шары | D93: ИНП82/1в | F93: 2083 | H93: =F92*G93 -> 0
B94: Лежак "Угловой" (из прута) №1 | C94: саванна | D94: ИНП82/1с | F94: 2083 | H94: =F92*G94 -> 0
B95: Лежак "Угловой" (из прута) №1 | C95: молочный шоколад | D95: ИНП82/1м | F95: 2083 | H95: =F92*G95 -> 0
B96: Лежак "Угловой" (из прута) №1 | C96: горчица | D96: ИНП82/1г | F96: 2083 | H96: =F92*G96 -> 0
B97: Лежак "Угловой" (из прута) №1 | C97: европа | D97: ИНП82/1е | F97: 2083 | H97: =F92*G97 -> 0
B98: Лежак "Угловой" (из прута) №2 | C98: терракота | D98: ИНП82/2т | E98: 690х500/185 | F98: 2559 | H98: =F98*G98 -> 0
B99: Лежак "Угловой" (из прута) №2 | C99: воздушные шары | D99: ИНП82/2в | F99: 2559 | H99: =F98*G99 -> 0
B100: Лежак "Угловой" (из прута) №2 | C100: саванна | D100: ИНП82/2с | F100: 2559 | H100: =F98*G100 -> 0
...
