Workbook

Sheet заказ
A1: № п/п | B1: наименование | C1: артикул | D1: цена опт | E1: кол-во | F1: сумма
A2: 1 | B2: =каталог!B9 -> Шкатулка плетёная №1 | C2: =каталог!D9 -> ИНП11/1 | D2: =каталог!F9 -> 1243 | E2: =каталог!G9 -> 0 | F2: =E2*D2 -> 0
A3: 2 | B3: =каталог!B10 -> Шкатулка плетёная №2 | C3: =каталог!D10 -> ИНП11/2 | D3: =каталог!F10 -> 1740 | E3: =каталог!G10 -> 0 | F3: =E3*D3 -> 0
A4: 3 | B4: =каталог!B11 -> Шкатулка-туес цветная №3 | C4: =каталог!D11 -> ПХД121/цв/3 | D4: =каталог!F11 -> 1076 | E4: =каталог!G11 -> 0 | F4: =E4*D4 -> 0
A5: 4 | B5: =каталог!B12 -> Шкатулка-туес цветная №4 | C5: =каталог!D12 -> ПХД121/цв/4 | D5: =каталог!F12 -> 1434 | E5: =каталог!G12 -> 0 | F5: =E5*D5 -> 0
A6: 5 | B6: =каталог!B13 -> Шкатулка-туес цветная №5 | C6: =каталог!D13 -> ПХД121/цв/5 | D6: =каталог!F13 -> 1726 | E6: =каталог!G13 -> 0 | F6: =E6*D6 -> 0
A7: 6 | B7: =каталог!B14 -> Шкатулка круглая цветная | C7: =каталог!D14 -> НХП143 | D7: =каталог!F14 -> 4896 | E7: =каталог!G14 -> 0 | F7: =E7*D7 -> 0
A8: 7 | B8: =каталог!B15 -> Ларец квадратный | C8: =каталог!D15 -> НХП153 | D8: =каталог!F15 -> 3675 | E8: =каталог!G15 -> 0 | F8: =E8*D8 -> 0
A9: 8 | B9: =каталог!B16 -> Подарочная упаковка "Ракета" малая | C9: =каталог!D16 -> ИНП145/1 | D9: =каталог!F16 -> 3666 | E9: =каталог!G16 -> 0 | F9: =E9*D9 -> 0
D10: итого: | E10: =SUM(E2:E9) -> 0 | F10: =SUM(F2:F9) -> 0

Sheet каталог
B1: Каталог "Шкатулки"
A4: Правообладатель ООО "Азимут" Кировская обл., г.Кирово-Чепецк, ул.Калинина, д.7, (83361) 4-75-33, e-mail:ivolga4@yandex.ru Продукции предприятия ООО «Азимут» присвоен официальный статус изделий народных художественных промыслов России.
A5: ПХД - изделия признанного художественного достоинства
A6: НХП - изделия народных художественных промыслов Кировской области
A7: ИНП - изделия народных промыслов
A8: фото | B8: наименование | C8: комментарии | D8: артикул | E8: размеры (длина*ширина /высота) | F8: цена опт | G8: кол-во | H8: сумма
B9: Шкатулка плетёная №1 | C9: дно фанерное, стенки и крышка из ивовой лозы и ленты, крышка откидная, застёжка на деревянную бусину | D9: ИНП11/1 | E9: 180*240/140 | F9: 1243 | H9: =G9*F9 -> 0
B10: Шкатулка плетёная №2 | C10: дно фанерное, стенки и крышка из ивовой лозы и ленты, крышка откидная, застёжка на деревянную бусину | D10: ИНП11/2 | E10: 350*280/200 | F10: 1740 | H10: =G10*F10 -> 0
B11: Шкатулка-туес цветная №3 | C11: дно и крышка из берёзовой фанеры, стенки из ивовой лозы и ивового шпона | D11: ПХД121/цв/3 | E11: 180*180/120/150 | F11: 1076 | H11: =G11*F11 -> 0
B12: Шкатулка-туес цветная №4 | D12: ПХД121/цв/4 | E12: 220*220/140/180 | F12: 1434 | H12: =G12*F12 -> 0
B13: Шкатулка-туес цветная №5 | D13: ПХД121/цв/5 | E13: 260*260/160/210 | F13: 1726 | H13: =G13*F13 -> 0
B14: Шкатулка круглая цветная | C14: дно, стенки и крышка из ивовой лозы | D14: НХП143 | E14: 290*290/180 | F14: 4896 | H14: =G14*F14 -> 0
B15: Ларец квадратный | C15: Плетение прутом ивы в сочетании со столярной работой. Декор - металлические уголки и ажурная накладка из фанеры. | D15: НХП153 | E15: 200*200/170 | F15: 3675 | H15: =G15*F15 -> 0
B16: Подарочная упаковка "Ракета" малая | C16: Плетение прутом ивы в сочетании со столярной работой | D16: ИНП145/1 | E16: 260*260/340 | F16: 3666 | H16: =G16*F16 -> 0
F17: итого: | G17: =SUM(G9:G16) -> 0 | H17: =SUM(H9:H16) -> 0
